BEGIN:VCALENDAR
VERSION:2.0
PRODID:-//Sabre//Sabre VObject 4.5.8//EN
CALSCALE:GREGORIAN
BEGIN:VEVENT
UID:sabre-vobject-ab6dd54c-a88b-48ec-a9ef-912fdc2bda66
DTSTAMP:20260425T042729Z
SUMMARY:Georgisches Kammerorchester Ingolstadt 2. ABO Open-Air Konzert
DESCRIPTION:https://regioningolstadt.com/georgisches-kammerorchester-ingols
 tadt-2-abo-open-air-konzert_id28002
DTSTART;TZID=Europe/Berlin:20240727T211500
DURATION:PT30M
LOCATION:Turm Baur\, Brückenkopf 14\, 85051 Ingolstadt
END:VEVENT
END:VCALENDAR
