BEGIN:VCALENDAR
VERSION:2.0
PRODID:-//Sabre//Sabre VObject 4.5.8//EN
CALSCALE:GREGORIAN
BEGIN:VEVENT
UID:sabre-vobject-1f230e4f-9e26-4ac1-aae5-92712b2c03ff
DTSTAMP:20260424T085012Z
SUMMARY:Führung durch das Kavalier Dalwigk
DESCRIPTION:https://regioningolstadt.com/fuehrung-durch-das-kavalier-dalwig
 k_id28000
DTSTART;TZID=Europe/Berlin:20240726T160000
DTEND;TZID=Europe/Berlin:20240726T170000
LOCATION:Kavalier Dalwigk\, Schlosslände 26\, 85049 Ingolstadt
END:VEVENT
END:VCALENDAR
