BEGIN:VCALENDAR
VERSION:2.0
PRODID:-//Sabre//Sabre VObject 4.5.8//EN
CALSCALE:GREGORIAN
BEGIN:VEVENT
UID:sabre-vobject-8298bdd9-3bef-42ee-b79a-55dd5d4c0f33
DTSTAMP:20260421T185059Z
SUMMARY:Gaming Club Ingolstadt
DESCRIPTION:https://regioningolstadt.com/gaming-club-ingolstadt_id27996
DTSTART;TZID=Europe/Berlin:20240708T153000
DTEND;TZID=Europe/Berlin:20240708T170000
LOCATION:Stadtbücherei im Herzogskasten\, Hallstraße 2 - 4\, 85049 Ingols
 tadt
END:VEVENT
END:VCALENDAR
