BEGIN:VCALENDAR
VERSION:2.0
PRODID:-//Sabre//Sabre VObject 4.5.8//EN
CALSCALE:GREGORIAN
BEGIN:VEVENT
UID:sabre-vobject-e716e7a4-a941-46e4-aa6a-aa54dbd18949
DTSTAMP:20260424T082246Z
SUMMARY:Führung durch das Kavalier Dalwigk
DESCRIPTION:https://regioningolstadt.com/fuehrung-durch-das-kavalier-dalwig
 k_id27990
DTSTART;TZID=Europe/Berlin:20240614T160000
DTEND;TZID=Europe/Berlin:20240614T170000
LOCATION:Kavalier Dalwigk\, Schlosslände 26\, 85049 Ingolstadt
END:VEVENT
END:VCALENDAR
