BEGIN:VCALENDAR
VERSION:2.0
PRODID:-//Sabre//Sabre VObject 4.5.8//EN
CALSCALE:GREGORIAN
BEGIN:VEVENT
UID:sabre-vobject-74c40cbd-2072-48ca-ba79-d504c791fb58
DTSTAMP:20260424T004523Z
SUMMARY:Georgisches Kammerorchester Ingolstadt 10. ABO Konzert
DESCRIPTION:https://regioningolstadt.com/georgisches-kammerorchester-ingols
 tadt-10-abo-konzert_id27989
DTSTART;TZID=Europe/Berlin:20240613T200000
DURATION:PT30M
LOCATION:Festsaal des Stadttheaters Ingolstadt\, Schloßlände 1\, 85049 In
 golstadt
END:VEVENT
END:VCALENDAR
