BEGIN:VCALENDAR
VERSION:2.0
PRODID:-//Sabre//Sabre VObject 4.5.8//EN
CALSCALE:GREGORIAN
BEGIN:VEVENT
UID:sabre-vobject-412bab08-fb11-438c-a3d2-bb780fd4c296
DTSTAMP:20260423T143820Z
SUMMARY:Büchergeister
DESCRIPTION:https://regioningolstadt.com/buechergeister_id27988
DTSTART;TZID=Europe/Berlin:20240613T160000
DURATION:PT30M
LOCATION:Stadtbücherei im Herzogskasten\, Hallstraße 2 - 4\, 85049 Ingols
 tadt
END:VEVENT
END:VCALENDAR
