BEGIN:VCALENDAR
VERSION:2.0
PRODID:-//Sabre//Sabre VObject 4.5.8//EN
CALSCALE:GREGORIAN
BEGIN:VEVENT
UID:sabre-vobject-68b53a10-9af4-4d71-a340-edbee9fa74c9
DTSTAMP:20260423T062137Z
SUMMARY:Bücherwürmchen
DESCRIPTION:https://regioningolstadt.com/buecherwuermchen_id27987
DTSTART;TZID=Europe/Berlin:20240611T093000
DTEND;TZID=Europe/Berlin:20240611T103000
LOCATION:Stadtteilbücherei Südwest\, Maximilianstraße 25\, 85051 Ingolst
 adt
END:VEVENT
END:VCALENDAR
