BEGIN:VCALENDAR
VERSION:2.0
PRODID:-//Sabre//Sabre VObject 4.5.8//EN
CALSCALE:GREGORIAN
BEGIN:VEVENT
UID:sabre-vobject-40dd1ab0-0f47-428f-91e3-c3310df8974f
DTSTAMP:20260423T140804Z
SUMMARY:Gaming Club Ingolstadt
DESCRIPTION:https://regioningolstadt.com/gaming-club-ingolstadt_id27986
DTSTART;TZID=Europe/Berlin:20240610T153000
DTEND;TZID=Europe/Berlin:20240610T170000
LOCATION:Stadtbücherei im Herzogskasten\, Hallstraße 2 - 4\, 85049 Ingols
 tadt
END:VEVENT
END:VCALENDAR
