BEGIN:VCALENDAR
VERSION:2.0
PRODID:-//Sabre//Sabre VObject 4.5.8//EN
CALSCALE:GREGORIAN
BEGIN:VEVENT
UID:sabre-vobject-6420f954-9eb3-488a-9120-b3213c4f08f3
DTSTAMP:20260425T042735Z
SUMMARY:30 Jahre THI On-Campus-Festival
DESCRIPTION:https://regioningolstadt.com/30-jahre-thi-on-campus-festival_id
 27984
DTSTART;TZID=Europe/Berlin:20240607T150000
DTEND;TZID=Europe/Berlin:20240607T235959
LOCATION:Technische Hochschule Ingolstadt Campusgelände\, Esplanade 10\, 8
 5049 Ingolstadt
END:VEVENT
END:VCALENDAR
