BEGIN:VCALENDAR
VERSION:2.0
PRODID:-//Sabre//Sabre VObject 4.5.8//EN
CALSCALE:GREGORIAN
BEGIN:VEVENT
UID:sabre-vobject-62cecb19-3beb-4834-b65d-b1ba481d368f
DTSTAMP:20260421T172433Z
SUMMARY:Bücherwürmchen
DESCRIPTION:https://regioningolstadt.com/buecherwuermchen_id27981
DTSTART;TZID=Europe/Berlin:20240604T093000
DTEND;TZID=Europe/Berlin:20240604T103000
LOCATION:Stadtteilbücherei Südwest\, Maximilianstraße 25\, 85051 Ingolst
 adt
END:VEVENT
END:VCALENDAR
