BEGIN:VCALENDAR
VERSION:2.0
PRODID:-//Sabre//Sabre VObject 4.5.8//EN
CALSCALE:GREGORIAN
BEGIN:VEVENT
UID:sabre-vobject-83cd9ec5-8399-45fc-8781-63ad3a1d298a
DTSTAMP:20260421T051546Z
SUMMARY:Georgisches Kammerorchester Ingolstadt 1. ABO Konzert Swing Night
DESCRIPTION:https://regioningolstadt.com/georgisches-kammerorchester-ingols
 tadt-1-abo-konzert-swing-night_id27952
DTSTART;TZID=Europe/Berlin:20240601T193000
DURATION:PT30M
LOCATION:Maritim Hotel Congress Centrum Ingolstadt\, Gießerei-Platz 1\, 85
 049 Ingolstadt
END:VEVENT
END:VCALENDAR
