BEGIN:VCALENDAR
VERSION:2.0
PRODID:-//Sabre//Sabre VObject 4.5.8//EN
CALSCALE:GREGORIAN
BEGIN:VEVENT
UID:sabre-vobject-d87d8f7a-9487-4792-bfca-32b3d355a74f
DTSTAMP:20260420T114835Z
SUMMARY:Bücherwürmchen
DESCRIPTION:https://regioningolstadt.com/buecherwuermchen_id27942
DTSTART;TZID=Europe/Berlin:20240416T093000
DTEND;TZID=Europe/Berlin:20240416T103000
LOCATION:Stadtteilbücherei Südwest\, Maximilianstraße 25\, 85051 Ingolst
 adt
END:VEVENT
END:VCALENDAR
