BEGIN:VCALENDAR
VERSION:2.0
PRODID:-//Sabre//Sabre VObject 4.5.8//EN
CALSCALE:GREGORIAN
BEGIN:VEVENT
UID:sabre-vobject-b28e508d-aaf2-46d5-8130-a8a62bbec8ef
DTSTAMP:20260420T130601Z
SUMMARY:Gaming Club Ingolstadt
DESCRIPTION:https://regioningolstadt.com/gaming-club-ingolstadt_id27941
DTSTART;TZID=Europe/Berlin:20240415T153000
DTEND;TZID=Europe/Berlin:20240415T170000
LOCATION:Stadtbücherei im Herzogskasten\, Hallstraße 2 - 4\, 85049 Ingols
 tadt
END:VEVENT
END:VCALENDAR
