BEGIN:VCALENDAR
VERSION:2.0
PRODID:-//Sabre//Sabre VObject 4.5.8//EN
CALSCALE:GREGORIAN
BEGIN:VEVENT
UID:sabre-vobject-4e25439f-dccc-49be-8cd3-26e324fbf6d0
DTSTAMP:20260420T163555Z
SUMMARY:Das Musical Dinner in Ingolstadt
DESCRIPTION:https://regioningolstadt.com/das-musical-dinner-in-ingolstadt_i
 d27940
DTSTART;TZID=Europe/Berlin:20240413T190000
DTEND;TZID=Europe/Berlin:20240413T223000
LOCATION:Wirtshaus am Auwaldsee\, Am Auwaldsee 20\, 85053 Ingolstadt
END:VEVENT
END:VCALENDAR
