BEGIN:VCALENDAR
VERSION:2.0
PRODID:-//Sabre//Sabre VObject 4.5.8//EN
CALSCALE:GREGORIAN
BEGIN:VEVENT
UID:sabre-vobject-dcf176e1-a45b-4b78-adf6-27ebc19befd5
DTSTAMP:20260426T005004Z
SUMMARY:Öffentliche Führung
DESCRIPTION:https://regioningolstadt.com/oeffentliche-fuehrung_id27405
DTSTART;TZID=Europe/Berlin:20240414T134500
DTEND;TZID=Europe/Berlin:20240414T154500
LOCATION:Schrobenhausen\, Treffpunkt Busbahnhof
END:VEVENT
END:VCALENDAR
