BEGIN:VCALENDAR
VERSION:2.0
PRODID:-//Sabre//Sabre VObject 4.5.8//EN
CALSCALE:GREGORIAN
BEGIN:VEVENT
UID:sabre-vobject-0a9c716e-71c8-4754-bd3c-54f69d48f72d
DTSTAMP:20260423T102757Z
SUMMARY:Öffentliche Führung
DESCRIPTION:https://regioningolstadt.com/oeffentliche-fuehrung_id27399
DTSTART;TZID=Europe/Berlin:20240623T184500
DTEND;TZID=Europe/Berlin:20240623T211500
LOCATION:Hinterkaifeck\, \, 86579  Waidhofen
END:VEVENT
END:VCALENDAR
