BEGIN:VCALENDAR
VERSION:2.0
PRODID:-//Sabre//Sabre VObject 4.5.8//EN
CALSCALE:GREGORIAN
BEGIN:VEVENT
UID:sabre-vobject-dde86ace-660b-4d26-8f58-1db7d09e7157
DTSTAMP:20260421T041011Z
SUMMARY:Profigolfturnier
DESCRIPTION:https://regioningolstadt.com/profigolfturnier_id26893
DTSTART;TZID=Europe/Berlin:20240905T000000
DTEND;TZID=Europe/Berlin:20240908T000000
LOCATION:86633 Neuburg an der Donau
END:VEVENT
END:VCALENDAR
