BEGIN:VCALENDAR
VERSION:2.0
PRODID:-//Sabre//Sabre VObject 4.5.8//EN
CALSCALE:GREGORIAN
BEGIN:VEVENT
UID:sabre-vobject-523112e5-3338-42f2-b2f1-b686c827f815
DTSTAMP:20260421T073542Z
SUMMARY:Neuburger Schlossweihnacht
DESCRIPTION:https://regioningolstadt.com/neuburger-schlossweihnacht_id26874
DTSTART;TZID=Europe/Berlin:20251212T000000
DTEND;TZID=Europe/Berlin:20251214T000000
LOCATION:86633 Neuburg an der Donau
END:VEVENT
END:VCALENDAR
