BEGIN:VCALENDAR
VERSION:2.0
PRODID:-//Sabre//Sabre VObject 4.5.8//EN
CALSCALE:GREGORIAN
BEGIN:VEVENT
UID:sabre-vobject-b0f24b29-0ef3-4c85-850e-c76833d3b36b
DTSTAMP:20260421T162841Z
SUMMARY:Neuburger Christkindlmarkt
DESCRIPTION:https://regioningolstadt.com/neuburger-christkindlmarkt_id26873
DTSTART;TZID=Europe/Berlin:20251205T000000
DTEND;TZID=Europe/Berlin:20251207T000000
LOCATION:Neuburg an der Donau
END:VEVENT
END:VCALENDAR
