BEGIN:VCALENDAR
VERSION:2.0
PRODID:-//Sabre//Sabre VObject 4.5.8//EN
CALSCALE:GREGORIAN
BEGIN:VEVENT
UID:sabre-vobject-74b8ae29-e570-4e74-9afd-a4601969dbbf
DTSTAMP:20260421T132904Z
SUMMARY:Neuburger Schlossweihnacht
DESCRIPTION:https://regioningolstadt.com/neuburger-schlossweihnacht_id26872
DTSTART;TZID=Europe/Berlin:20251205T000000
DTEND;TZID=Europe/Berlin:20251207T000000
LOCATION:86633 Neuburg an der Donau\, im Residenzschloss
END:VEVENT
END:VCALENDAR
