BEGIN:VCALENDAR
VERSION:2.0
PRODID:-//Sabre//Sabre VObject 4.5.8//EN
CALSCALE:GREGORIAN
BEGIN:VEVENT
UID:sabre-vobject-a8a059e0-bbdb-4339-a833-2f06f7ec5a06
DTSTAMP:20260421T091414Z
SUMMARY:Neuburger Christkindlmarkt
DESCRIPTION:https://regioningolstadt.com/neuburger-christkindlmarkt_id26871
DTSTART;TZID=Europe/Berlin:20251212T000000
DTEND;TZID=Europe/Berlin:20251214T000000
END:VEVENT
END:VCALENDAR
