BEGIN:VCALENDAR
VERSION:2.0
PRODID:-//Sabre//Sabre VObject 4.5.8//EN
CALSCALE:GREGORIAN
BEGIN:VEVENT
UID:sabre-vobject-c45be1a1-b4e0-47da-8d21-f69b6cbfce81
DTSTAMP:20260421T210703Z
SUMMARY:Neuburger Weihnachtsmarkt
DESCRIPTION:https://regioningolstadt.com/neuburger-weihnachtsmarkt_id26865
DTSTART;TZID=Europe/Berlin:20251127T000000
DTEND;TZID=Europe/Berlin:20251223T000000
LOCATION:Schrannenplatz\, Schrannenplatz\, 86633 Neuburg
END:VEVENT
END:VCALENDAR
