BEGIN:VCALENDAR
VERSION:2.0
PRODID:-//Sabre//Sabre VObject 4.5.8//EN
CALSCALE:GREGORIAN
BEGIN:VEVENT
UID:sabre-vobject-fa1f6f48-9e75-4779-a3c8-f3db20f94b7f
DTSTAMP:20260420T173015Z
SUMMARY:Stadtlauf in Schrobenhausen
DESCRIPTION:https://regioningolstadt.com/stadtlauf-in-schrobenhausen_id2674
 7
DTSTART;TZID=Europe/Berlin:20240914T120000
DTEND;TZID=Europe/Berlin:20240914T200000
LOCATION:Schrobenhausen\, Gesamte Innenstadt
END:VEVENT
END:VCALENDAR
