BEGIN:VCALENDAR
VERSION:2.0
PRODID:-//Sabre//Sabre VObject 4.5.8//EN
CALSCALE:GREGORIAN
BEGIN:VEVENT
UID:sabre-vobject-99b87d8d-d6a9-4a21-9c18-0bc2b798395b
DTSTAMP:20260424T055917Z
SUMMARY:Mai-Dult
DESCRIPTION:https://regioningolstadt.com/mai-dult_id26745
DTSTART;TZID=Europe/Berlin:20240526T000000
DURATION:PT30M
LOCATION:Lenbachstraße\, Lenbachstraße\, 86529 Schrobenhausen
END:VEVENT
END:VCALENDAR
