BEGIN:VCALENDAR
VERSION:2.0
PRODID:-//Sabre//Sabre VObject 4.5.8//EN
CALSCALE:GREGORIAN
BEGIN:VEVENT
UID:sabre-vobject-774d488a-82a3-467e-93ff-4c2ad2262fce
DTSTAMP:20260425T024118Z
SUMMARY:Volksfest Schrobenhausen
DESCRIPTION:https://regioningolstadt.com/volksfest-schrobenhausen_id26743
DTSTART;TZID=Europe/Berlin:20240502T000000
DTEND;TZID=Europe/Berlin:20240506T000000
END:VEVENT
END:VCALENDAR
