BEGIN:VCALENDAR
VERSION:2.0
PRODID:-//Sabre//Sabre VObject 4.5.8//EN
CALSCALE:GREGORIAN
BEGIN:VEVENT
UID:sabre-vobject-f47dfaf9-1974-43d2-a278-341f1483161a
DTSTAMP:20260425T104901Z
SUMMARY:Schrobenhausener Spargelfest
DESCRIPTION:https://regioningolstadt.com/schrobenhausener-spargelfest_id267
 42
DTSTART;TZID=Europe/Berlin:20240427T103000
DTEND;TZID=Europe/Berlin:20240427T170000
LOCATION:Lenbachplatz\, Lenbachplatz\, 86529 Schrobenhausen
END:VEVENT
END:VCALENDAR
