BEGIN:VCALENDAR
VERSION:2.0
PRODID:-//Sabre//Sabre VObject 4.5.8//EN
CALSCALE:GREGORIAN
BEGIN:VEVENT
UID:sabre-vobject-f22d1b85-6c3d-4047-b250-88a99889d793
DTSTAMP:20260420T061039Z
SUMMARY:Neuburger Töpfermarkt
DESCRIPTION:https://regioningolstadt.com/neuburger-toepfermarkt_id26697
DTSTART;TZID=Europe/Berlin:20240921T090000
DTEND;TZID=Europe/Berlin:20240922T090000
LOCATION:Neuburg an der Donau
END:VEVENT
END:VCALENDAR
