BEGIN:VCALENDAR
VERSION:2.0
PRODID:-//Sabre//Sabre VObject 4.5.8//EN
CALSCALE:GREGORIAN
BEGIN:VEVENT
UID:sabre-vobject-9b80835a-4f6a-41c7-a866-9ff22e82e311
DTSTAMP:20260420T203913Z
SUMMARY:MUT ZUM HUT
DESCRIPTION:https://regioningolstadt.com/mut-zum-hut_id26696
DTSTART;TZID=Europe/Berlin:20240913T000000
DTEND;TZID=Europe/Berlin:20240915T000000
LOCATION:Historische Altstadt \, Residenzschloss\, Taschenberg 2\, 01067 Dr
 esden
END:VEVENT
END:VCALENDAR
