BEGIN:VCALENDAR
VERSION:2.0
PRODID:-//Sabre//Sabre VObject 4.5.8//EN
CALSCALE:GREGORIAN
BEGIN:VEVENT
UID:sabre-vobject-21a58b9d-2667-493f-bbb5-4bd28e86c97d
DTSTAMP:20260422T042206Z
SUMMARY:Neuburger Weinbörse
DESCRIPTION:https://regioningolstadt.com/neuburger-weinboerse_id26695
DTSTART;TZID=Europe/Berlin:20251107T180000
DTEND;TZID=Europe/Berlin:20251108T220000
LOCATION:Neuburg an der Donau
END:VEVENT
END:VCALENDAR
