BEGIN:VCALENDAR
VERSION:2.0
PRODID:-//Sabre//Sabre VObject 4.5.8//EN
CALSCALE:GREGORIAN
BEGIN:VEVENT
UID:sabre-vobject-c21b412f-9aa7-40f4-9109-91b4dccef162
DTSTAMP:20260422T174237Z
SUMMARY:Herbst-Dult in Neuburg
DESCRIPTION:https://regioningolstadt.com/herbst-dult-in-neuburg_id26691
DTSTART;TZID=Europe/Berlin:20251009T000000
DTEND;TZID=Europe/Berlin:20251012T000000
LOCATION:Schrannenplatz\, Schrannenplatz\, 86633 Neuburg
END:VEVENT
END:VCALENDAR
