BEGIN:VCALENDAR
VERSION:2.0
PRODID:-//Sabre//Sabre VObject 4.5.8//EN
CALSCALE:GREGORIAN
BEGIN:VEVENT
UID:sabre-vobject-cab84398-da0c-47b4-8e21-d8d61e02a45f
DTSTAMP:20260420T094748Z
SUMMARY:Neuburger Töpfermarkt
DESCRIPTION:https://regioningolstadt.com/neuburger-toepfermarkt_id26689
DTSTART;TZID=Europe/Berlin:20240921T000000
DTEND;TZID=Europe/Berlin:20240922T000000
LOCATION:Neuburg an der Donau
END:VEVENT
END:VCALENDAR
