BEGIN:VCALENDAR
VERSION:2.0
PRODID:-//Sabre//Sabre VObject 4.5.8//EN
CALSCALE:GREGORIAN
BEGIN:VEVENT
UID:sabre-vobject-4e03a859-17e9-4b22-8d99-31a2eff2983e
DTSTAMP:20260419T220347Z
SUMMARY:Neuburger Weinbörse
DESCRIPTION:https://regioningolstadt.com/neuburger-weinboerse_id26469
DTSTART;TZID=Europe/Berlin:20261107T160000
DTEND;TZID=Europe/Berlin:20261107T220000
LOCATION:Fürstlicher Marstall\, Ottheinrichplatz A 117\, 86633 Neuburg an 
 der Donau
END:VEVENT
END:VCALENDAR
