BEGIN:VCALENDAR
VERSION:2.0
PRODID:-//Sabre//Sabre VObject 4.5.8//EN
CALSCALE:GREGORIAN
BEGIN:VEVENT
UID:sabre-vobject-fa13aed5-e6ef-4a41-8698-8344cf3b9dba
DTSTAMP:20260419T202035Z
SUMMARY:Neuburger Weinbörse
DESCRIPTION:https://regioningolstadt.com/neuburger-weinboerse_id26468
DTSTART;TZID=Europe/Berlin:20261106T180000
DTEND;TZID=Europe/Berlin:20261106T220000
LOCATION:Fürstlicher Marstall\, Ottheinrichplatz A 117\, 86633 Neuburg an 
 der Donau
END:VEVENT
END:VCALENDAR
