BEGIN:VCALENDAR
VERSION:2.0
PRODID:-//Sabre//Sabre VObject 4.5.8//EN
CALSCALE:GREGORIAN
BEGIN:VEVENT
UID:sabre-vobject-8ea64c18-4066-413c-9383-b8ebb19b67b3
DTSTAMP:20260420T061032Z
SUMMARY:Neuburger Töpfermarkt
DESCRIPTION:https://regioningolstadt.com/neuburger-toepfermarkt_id26463
DTSTART;TZID=Europe/Berlin:20260920T090000
DTEND;TZID=Europe/Berlin:20260920T180000
LOCATION:Fürstlicher Marstall\, Ottheinrichplatz A 117\, 86633 Neuburg an 
 der Donau
END:VEVENT
END:VCALENDAR
