BEGIN:VCALENDAR
VERSION:2.0
PRODID:-//Sabre//Sabre VObject 4.5.8//EN
CALSCALE:GREGORIAN
BEGIN:VEVENT
UID:sabre-vobject-d9bda750-89ae-44f1-bd79-819f59532193
DTSTAMP:20260420T061116Z
SUMMARY:Neuburger Töpfermarkt
DESCRIPTION:https://regioningolstadt.com/neuburger-toepfermarkt_id26462
DTSTART;TZID=Europe/Berlin:20260919T090000
DTEND;TZID=Europe/Berlin:20260919T180000
LOCATION:Fürstlicher Marstall\, Ottheinrichplatz A 117\, 86633 Neuburg an 
 der Donau
END:VEVENT
END:VCALENDAR
