BEGIN:VCALENDAR
VERSION:2.0
PRODID:-//Sabre//Sabre VObject 4.5.8//EN
CALSCALE:GREGORIAN
BEGIN:VEVENT
UID:sabre-vobject-9bd48e3e-fff4-46df-b6d1-bc292d4e6d06
DTSTAMP:20260420T041005Z
SUMMARY:Herbst-Dult
DESCRIPTION:https://regioningolstadt.com/herbst-dult_id26356
DTSTART;TZID=Europe/Berlin:20261010T100000
DTEND;TZID=Europe/Berlin:20261010T190000
LOCATION:Schrannenplatz\, Schrannenplatz\, 86633 Neuburg an der Donau
END:VEVENT
END:VCALENDAR
