BEGIN:VCALENDAR
VERSION:2.0
PRODID:-//Sabre//Sabre VObject 4.5.8//EN
CALSCALE:GREGORIAN
BEGIN:VEVENT
UID:sabre-vobject-439d7804-a1e7-4652-8c98-3fb88c3b28bd
DTSTAMP:20260419T144629Z
SUMMARY:Von der Alten Kaserne zum neuen Campus
DESCRIPTION:https://regioningolstadt.com/von-der-alten-kaserne-zum-neuen-ca
 mpus_id24755
DTSTART;TZID=Europe/Berlin:20250101T000000
DTEND;TZID=Europe/Berlin:20271231T000000
LOCATION:Parkplatz "Landratsamt"\, Platz-der-Deutschen-Einheit 1\, 86633 Ne
 uburg
END:VEVENT
END:VCALENDAR
