BEGIN:VCALENDAR
VERSION:2.0
PRODID:-//Sabre//Sabre VObject 4.5.8//EN
CALSCALE:GREGORIAN
BEGIN:VEVENT
UID:sabre-vobject-b6cf09a3-0f62-4ca3-ac3a-8e0f30049a9c
DTSTAMP:20260419T192759Z
SUMMARY:Der letzte Schrei
DESCRIPTION:https://regioningolstadt.com/der-letzte-schrei_id24754
DTSTART;TZID=Europe/Berlin:20250101T000000
DTEND;TZID=Europe/Berlin:20271231T000000
LOCATION:Residenzschloss Neuburg\, Residenzstraße 2\, 86633 Neuburg an der
  Donau
END:VEVENT
END:VCALENDAR
