BEGIN:VCALENDAR
VERSION:2.0
PRODID:-//Sabre//Sabre VObject 4.5.8//EN
CALSCALE:GREGORIAN
BEGIN:VEVENT
UID:sabre-vobject-ee76f08d-756b-48fc-9988-bce1eee49252
DTSTAMP:20260424T135041Z
SUMMARY:Fischergasslerfest
DESCRIPTION:https://regioningolstadt.com/fischergasslerfest_id22708
DTSTART;TZID=Europe/Berlin:20240518T000000
DURATION:PT30M
LOCATION:Neuburg an der Donau
END:VEVENT
END:VCALENDAR
