BEGIN:VCALENDAR
VERSION:2.0
PRODID:-//Sabre//Sabre VObject 4.5.8//EN
CALSCALE:GREGORIAN
BEGIN:VEVENT
UID:sabre-vobject-c55ea265-368b-4f02-8ee1-d1d3d9f39b9e
DTSTAMP:20260423T132008Z
SUMMARY:Öffentliche Radtour 
DESCRIPTION:https://regioningolstadt.com/oeffentliche-radtour_id22594
DTSTART;TZID=Europe/Berlin:20240621T130000
DTEND;TZID=Europe/Berlin:20240621T170000
LOCATION:Neuburg an der Donau\, Treffpunkt Staustufe Bittenbrunn\, Kraftwer
 kstraße
END:VEVENT
END:VCALENDAR
