BEGIN:VCALENDAR
VERSION:2.0
PRODID:-//Sabre//Sabre VObject 4.5.8//EN
CALSCALE:GREGORIAN
BEGIN:VEVENT
UID:sabre-vobject-29c2b008-36e9-46c2-8896-e61c4ac32a3a
DTSTAMP:20260420T030257Z
SUMMARY:Offene Tür der FOSBOS
DESCRIPTION:https://regioningolstadt.com/offene-tuer-der-fosbos_id19932
DTSTART;TZID=Europe/Berlin:20220721T090000
DTEND;TZID=Europe/Berlin:20220721T120000
LOCATION:FOSBOS Neuburg\, Eybstraße B251\, 86633 Neuburg
END:VEVENT
END:VCALENDAR
