BEGIN:VCALENDAR
VERSION:2.0
PRODID:-//Sabre//Sabre VObject 4.5.8//EN
CALSCALE:GREGORIAN
BEGIN:VEVENT
UID:sabre-vobject-e22dd6fd-bac6-4d9e-b517-d1ba84ff1c99
DTSTAMP:20260421T024035Z
SUMMARY:Entdecker- und Schlemmertage
DESCRIPTION:https://regioningolstadt.com/entdecker-und-schlemmertage_id1993
 1
DTSTART;TZID=Europe/Berlin:20220718T090000
DTEND;TZID=Europe/Berlin:20220722T190000
END:VEVENT
END:VCALENDAR
