BEGIN:VCALENDAR
VERSION:2.0
PRODID:-//Sabre//Sabre VObject 4.5.8//EN
CALSCALE:GREGORIAN
BEGIN:VEVENT
UID:sabre-vobject-a1dd2a1d-1a9b-490c-b357-580f21d287e9
DTSTAMP:20260421T220641Z
SUMMARY:Eröffnung Sprach-Café
DESCRIPTION:https://regioningolstadt.com/eroeffnung-sprach-cafe_id19918
DTSTART;TZID=Europe/Berlin:20220716T100000
DTEND;TZID=Europe/Berlin:20220716T140000
LOCATION:das Otto\, Schmidstraße C113\, 86633  Neuburg
END:VEVENT
END:VCALENDAR
