BEGIN:VCALENDAR
VERSION:2.0
PRODID:-//Sabre//Sabre VObject 4.5.8//EN
CALSCALE:GREGORIAN
BEGIN:VEVENT
UID:sabre-vobject-2b1f5621-0342-481e-9496-d368660c43b9
DTSTAMP:20260420T130611Z
SUMMARY:Studenten sammeln Müll
DESCRIPTION:https://regioningolstadt.com/studenten-sammeln-muell_id19891
DTSTART;TZID=Europe/Berlin:20220720T000000
DURATION:PT30M
LOCATION:Campus Neuburg\, An der Hochschule B 1\, 86633 Neuburg
END:VEVENT
END:VCALENDAR
