BEGIN:VCALENDAR
VERSION:2.0
PRODID:-//Sabre//Sabre VObject 4.5.8//EN
CALSCALE:GREGORIAN
BEGIN:VEVENT
UID:sabre-vobject-87055899-1645-45c9-ac54-0eb6cda5d76e
DTSTAMP:20260420T013553Z
SUMMARY:Energiewende erlebbar machen
DESCRIPTION:https://regioningolstadt.com/energiewende-erlebbar-machen_id198
 89
DTSTART;TZID=Europe/Berlin:20220720T180000
DTEND;TZID=Europe/Berlin:20220720T193000
LOCATION:Campus Neuburg\, An der Hochschule B 1\, 86633 Neuburg
END:VEVENT
END:VCALENDAR
