BEGIN:VCALENDAR
VERSION:2.0
PRODID:-//Sabre//Sabre VObject 4.5.8//EN
CALSCALE:GREGORIAN
BEGIN:VEVENT
UID:sabre-vobject-71f635ab-9e03-4036-a5d3-bd66bf321d04
DTSTAMP:20260420T001238Z
SUMMARY:Blühende Sträucher statt Kieswüsten
DESCRIPTION:https://regioningolstadt.com/bluehende-straeucher-statt-kieswue
 sten_id19885
DTSTART;TZID=Europe/Berlin:20220720T180000
DTEND;TZID=Europe/Berlin:20220720T193000
LOCATION:AWO Herzwerk Neuburg\, Spitalplatz 196 C\, 86633  Neuburg 
END:VEVENT
END:VCALENDAR
