BEGIN:VCALENDAR
VERSION:2.0
PRODID:-//Sabre//Sabre VObject 4.5.8//EN
CALSCALE:GREGORIAN
BEGIN:VEVENT
UID:sabre-vobject-ce1d3b5f-da00-4696-a12b-56cd81f3a445
DTSTAMP:20260420T094814Z
SUMMARY:Nachhaltigkeit ist Überall
DESCRIPTION:https://regioningolstadt.com/nachhaltigkeit-ist-ueberall_id1988
 4
DTSTART;TZID=Europe/Berlin:20220720T120000
DTEND;TZID=Europe/Berlin:20220720T180000
LOCATION:Campus Neuburg\, An der Hochschule B 1\, 86633 Neuburg
END:VEVENT
END:VCALENDAR
