BEGIN:VCALENDAR
VERSION:2.0
PRODID:-//Sabre//Sabre VObject 4.5.8//EN
CALSCALE:GREGORIAN
BEGIN:VEVENT
UID:sabre-vobject-5839af9c-08a3-4d11-81a2-5e294a18d160
DTSTAMP:20260420T190401Z
SUMMARY:Reparaturcafé Neuburg
DESCRIPTION:https://regioningolstadt.com/reparaturcafe-neuburg_id19880
DTSTART;TZID=Europe/Berlin:20220719T180000
DTEND;TZID=Europe/Berlin:20220719T210000
LOCATION:Bürgerhaus Schwalbanger\, Richard-Wagner-Straße 6\, 86633 Neubur
 g an der Donau
END:VEVENT
END:VCALENDAR
