BEGIN:VCALENDAR
VERSION:2.0
PRODID:-//Sabre//Sabre VObject 4.5.8//EN
CALSCALE:GREGORIAN
BEGIN:VEVENT
UID:sabre-vobject-a0913d3e-341d-433b-aedd-6dd9154100e6
DTSTAMP:20260420T173020Z
SUMMARY:Workshop "THInk Green - Nachhaltige Lebensstile"
DESCRIPTION:https://regioningolstadt.com/workshop-think-green-nachhaltige-l
 ebensstile_id19877
DTSTART;TZID=Europe/Berlin:20220719T180000
DTEND;TZID=Europe/Berlin:20220719T193000
LOCATION:Campus Neuburg\, An der Hochschule B 1\, 86633 Neuburg
END:VEVENT
END:VCALENDAR
