BEGIN:VCALENDAR
VERSION:2.0
PRODID:-//Sabre//Sabre VObject 4.5.8//EN
CALSCALE:GREGORIAN
BEGIN:VEVENT
UID:sabre-vobject-224d6c7b-fb6b-41b1-be84-64c6b8b645a1
DTSTAMP:20260420T234043Z
SUMMARY:Vortrag "Lebendige Auen Wert\, Gefährdung und Zukunft des Donau-Au
 waldes"
DESCRIPTION:https://regioningolstadt.com/vortrag-lebendige-auen-wert-gefaeh
 rdung-und-zukunft-des-donau-auwaldes_id19876
DTSTART;TZID=Europe/Berlin:20220718T190000
DTEND;TZID=Europe/Berlin:20220718T210000
LOCATION:Stadtbücherei im Bücherturm\, Sèter Platz \, 86633 Neuburg an d
 er Donau
END:VEVENT
END:VCALENDAR
